BEGIN:VCALENDAR
X-WR-TIMEZONE;VALUE=TEXT:Europe/London
VERSION:2.0
CALSCALE:GREGORIAN
BEGIN:VEVENT
UID:fce06237-8c90-4e58-89a3-ecbc4e9c1178@techdiary
DTSTAMP:20200615T225252                                     
URL:https://www.techdiary.co.uk/event/fce06237-8c90-4e58-89a3-ecbc4e9c1178
DTSTART:20200717T180000
DTEND:20200717T193000

SUMMARY:Launch Event
DESCRIPTION:The launch of Startup Boost Newcastle\, a tech pre-accelerator for startups in the North East. (Price: FREE)
LOCATION:Online (remote)
END:VEVENT
END:VCALENDAR
