BEGIN:VCALENDAR
X-WR-TIMEZONE;VALUE=TEXT:Europe/London
VERSION:2.0
CALSCALE:GREGORIAN
BEGIN:VEVENT
UID:fb18d441-cb77-42a6-afaf-2ecfa2174775@techdiary
DTSTAMP:20170526T122327                                     
URL:https://www.techdiary.co.uk/event/fb18d441-cb77-42a6-afaf-2ecfa2174775
DTSTART:20170628T160000
DTEND:20170628T183000

SUMMARY:Careers Event - &#039;Get into IT&#039;
DESCRIPTION:A CPD networking event for teachers\, careers advisors and providers of IT curriculum and careers guidance support services. (Price: FREE)
LOCATION:RTC North\, Colima Avenue\, Sunderland\, SR5 3XB
END:VEVENT
END:VCALENDAR
