BEGIN:VCALENDAR
X-WR-TIMEZONE;VALUE=TEXT:Europe/London
VERSION:2.0
CALSCALE:GREGORIAN
BEGIN:VEVENT
UID:fb01b397-d43d-411a-af20-c242629bb57b@techdiary
DTSTAMP:20200304T125603                                     
URL:https://www.techdiary.co.uk/event/fb01b397-d43d-411a-af20-c242629bb57b
DTSTART:20200317T180000
DTEND:20200317T200000

SUMMARY:Introduction to OpenAPI
DESCRIPTION:Lorna Mitchell presents. (Price: FREE)
LOCATION:Online (remote)
END:VEVENT
END:VCALENDAR
