BEGIN:VCALENDAR
X-WR-TIMEZONE;VALUE=TEXT:Europe/London
VERSION:2.0
CALSCALE:GREGORIAN
BEGIN:VEVENT
UID:fa7550c2-55c4-43ee-8d5d-9df6e13e8482@techdiary
DTSTAMP:20210622T063208                                     
URL:https://www.techdiary.co.uk/event/fa7550c2-55c4-43ee-8d5d-9df6e13e8482
DTSTART:20210922T160000
DTEND:20210922T170000

SUMMARY:#CyberFest 21 - A Region of Growing Cyber Security Innovation
DESCRIPTION:The North East is home to innovative cyber security companies. In this event\, hear from 3 of the newest companies around. (Price: FREE)
LOCATION:Online (remote)
END:VEVENT
END:VCALENDAR
