BEGIN:VCALENDAR
X-WR-TIMEZONE;VALUE=TEXT:Europe/London
VERSION:2.0
CALSCALE:GREGORIAN
BEGIN:VEVENT
UID:f7a04d40-68a7-454f-9b7a-d7c04f0e534e@techdiary
DTSTAMP:20230118T124156                                     
URL:https://www.techdiary.co.uk/event/f7a04d40-68a7-454f-9b7a-d7c04f0e534e
DTSTART:20230125T190000
DTEND:20230125T203000

SUMMARY:Smart Notes for Developers
DESCRIPTION:How to take effective notes\, organising your knowledge\, organically and by actionability. Presented by Sam Hogarth. (Price: FREE)
LOCATION:Online (remote)
END:VEVENT
END:VCALENDAR
