BEGIN:VCALENDAR
X-WR-TIMEZONE;VALUE=TEXT:Europe/London
VERSION:2.0
CALSCALE:GREGORIAN
BEGIN:VEVENT
UID:f61bb0b9-fdf9-4c2b-8add-2d376afedcd7@techdiary
DTSTAMP:20170803T110256                                     
URL:https://www.techdiary.co.uk/event/f61bb0b9-fdf9-4c2b-8add-2d376afedcd7
DTSTART:20170817T183000
DTEND:20170817T183000

SUMMARY:August
DESCRIPTION:&quot;Building successful products with lean start-up thinking&quot; (Justin Souter) and &quot;Start-up culture and entrepreneurship&quot; (Will Murray) (Price: FREE)
LOCATION:Turnitin\, 6th Floor\, Wellbar central\, 36 Gallowgate\, Newcastle Upon Tyne\, NE1 4TD
END:VEVENT
END:VCALENDAR
