BEGIN:VCALENDAR
X-WR-TIMEZONE;VALUE=TEXT:Europe/London
VERSION:2.0
CALSCALE:GREGORIAN
BEGIN:VEVENT
UID:f2f21c59-0280-4d3a-8559-2b8aa7f9a17c@techdiary
DTSTAMP:20200810T120226                                     
URL:https://www.techdiary.co.uk/event/f2f21c59-0280-4d3a-8559-2b8aa7f9a17c
DTSTART:20200922T163000
DTEND:20200922T181500

SUMMARY:Interested in a Career in Cyber Security?
DESCRIPTION:Talks from Steve Gilray\, Steve Hodgson\, Matt Sessions. (Price: FREE)
LOCATION:Online (remote)
END:VEVENT
END:VCALENDAR
