BEGIN:VCALENDAR
X-WR-TIMEZONE;VALUE=TEXT:Europe/London
VERSION:2.0
CALSCALE:GREGORIAN
BEGIN:VEVENT
UID:edb52cb1-107e-420b-aef0-be0299d8db80@techdiary
DTSTAMP:20160601T191240                                     
URL:https://www.techdiary.co.uk/event/edb52cb1-107e-420b-aef0-be0299d8db80
DTSTART:20160622T160000
DTEND:20160622T183000

SUMMARY:Get into IT
DESCRIPTION:A careers event to answer your questions about IT. (Price: FREE)
LOCATION:Northumbria University Business School\, Sutherland Building\, 2 Ellison Pl\, Newcastle upon Tyne\, NE1 8ST
END:VEVENT
END:VCALENDAR
