BEGIN:VCALENDAR
X-WR-TIMEZONE;VALUE=TEXT:Europe/London
VERSION:2.0
CALSCALE:GREGORIAN
BEGIN:VEVENT
UID:ebd2108f-9719-44ed-a813-a023b3d4f97e@techdiary
DTSTAMP:20160728T142414                                     
URL:https://www.techdiary.co.uk/event/ebd2108f-9719-44ed-a813-a023b3d4f97e
DTSTART:20160919T170000
DTEND:20160919T200000

SUMMARY:Apprentice Hub Launch
DESCRIPTION:The launch of the Dynamo Apprentice Hub\, following two years of successful pilot programmes. (Price: FREE)
LOCATION:Sage (UK)\, North Park\, Newcastle upon Tyne. NE13 9AA
END:VEVENT
END:VCALENDAR
