BEGIN:VCALENDAR
X-WR-TIMEZONE;VALUE=TEXT:Europe/London
VERSION:2.0
CALSCALE:GREGORIAN
BEGIN:VEVENT
UID:e7f9064b-c799-4d2d-8348-9091a8a2d788@techdiary
DTSTAMP:20160225T015013                                     
URL:https://www.techdiary.co.uk/event/e7f9064b-c799-4d2d-8348-9091a8a2d788
DTSTART:20151203T173000
DTEND:20151203T200000

SUMMARY:DynamoNet: Muckle
DESCRIPTION:Updates from our hosts Muckle and on the latest Dynamo activity. Network with peers and colleagues from across the North East&#039;s IT &amp; Tech Industry and enjoy 60-second lightning talks. (Price: £24)
LOCATION:Muckle LLP. Time Central. 32 Gallowgate. NE1 4BF
END:VEVENT
END:VCALENDAR
