BEGIN:VCALENDAR
X-WR-TIMEZONE;VALUE=TEXT:Europe/London
VERSION:2.0
CALSCALE:GREGORIAN
BEGIN:VEVENT
UID:e75ec642-640c-464c-a182-ba10629d41ff@techdiary
DTSTAMP:20250419T101639                                     
URL:https://www.techdiary.co.uk/event/e75ec642-640c-464c-a182-ba10629d41ff
DTSTART:20250616T090000
DTEND:20250620T170000

SUMMARY:TechNExt
DESCRIPTION:TechNExt is the tech festival for the North East\, hosted by a partnership of North East businesses and stakeholders working collaboratively to shape the event. (Price: FREE)
LOCATION:
END:VEVENT
END:VCALENDAR
