BEGIN:VCALENDAR
X-WR-TIMEZONE;VALUE=TEXT:Europe/London
VERSION:2.0
CALSCALE:GREGORIAN
BEGIN:VEVENT
UID:e63aeba4-ac52-490c-9cc3-40cd1fd1142a@techdiary
DTSTAMP:20160113T171856                                     
URL:https://www.techdiary.co.uk/event/e63aeba4-ac52-490c-9cc3-40cd1fd1142a
DTSTART:20141210T180000
DTEND:20141210T203000

SUMMARY:DynamoNet: Christmas Social
DESCRIPTION:Join us for a FREE drink and some stollen at our Christmas Social networking event. =0D=0A=Find out about the latest Dynamo activity\, hear what Opencast Software are up to\, and spread some Christmas cheer with peers and colleagues from across the North East&#039;s IT &amp; Tech Industry. (Price: FREE)
LOCATION:Clocktower Cafe\, Hoults Yard\, NE6 1AB
END:VEVENT
END:VCALENDAR
