BEGIN:VCALENDAR
X-WR-TIMEZONE;VALUE=TEXT:Europe/London
VERSION:2.0
CALSCALE:GREGORIAN
BEGIN:VEVENT
UID:e466f220-c806-4b56-9560-4794f3953e75@techdiary
DTSTAMP:20160113T171859                                     
URL:https://www.techdiary.co.uk/event/e466f220-c806-4b56-9560-4794f3953e75
DTSTART:20141127T173000
DTEND:20141127T193000

SUMMARY:DynamoNet: First look at the Cloud Innovation Centre
DESCRIPTION:Join us at November&#039;s FREE DynamoNet event for a first look at the new Cloud Innovation Centre based at the Core. (Price: FREE)
LOCATION:The Core\, Science Central\, Bath Lane\, Newcastle upon Tyne\, NE4 5TF
END:VEVENT
END:VCALENDAR
