BEGIN:VCALENDAR
X-WR-TIMEZONE;VALUE=TEXT:Europe/London
VERSION:2.0
CALSCALE:GREGORIAN
BEGIN:VEVENT
UID:dfe95be2-de24-4dbc-ad8c-ebbea4de3723@techdiary
DTSTAMP:20210609T045147                                     
URL:https://www.techdiary.co.uk/event/dfe95be2-de24-4dbc-ad8c-ebbea4de3723
DTSTART:20210616T170000
DTEND:20210616T200000

SUMMARY:WiDS @ Durham University 2021
DESCRIPTION:Part of the annual WiDS Worldwide conference organized by Stanford University\, which features outstanding women doing outstanding work in the field of data science. All genders welcome.. (Price: FREE)
LOCATION:Online (remote)
END:VEVENT
END:VCALENDAR
