BEGIN:VCALENDAR
X-WR-TIMEZONE;VALUE=TEXT:Europe/London
VERSION:2.0
CALSCALE:GREGORIAN
BEGIN:VEVENT
UID:dd169f59-bc4c-4432-aa00-976ce8c0c5ec@techdiary
DTSTAMP:20200811T123446                                     
URL:https://www.techdiary.co.uk/event/dd169f59-bc4c-4432-aa00-976ce8c0c5ec
DTSTART:20200819T183000
DTEND:20200819T203000

SUMMARY:MongoDB
DESCRIPTION:Kevin Smith explores MongoDB&#039;s flexible document model and how to utilise MongoDB for application storage. (Price: FREE)
LOCATION:Online (remote)
END:VEVENT
END:VCALENDAR
