BEGIN:VCALENDAR
X-WR-TIMEZONE;VALUE=TEXT:Europe/London
VERSION:2.0
CALSCALE:GREGORIAN
BEGIN:VEVENT
UID:d992ee60-c49a-41d0-b8c9-7006634bd29c@techdiary
DTSTAMP:20230416T110243                                     
URL:https://www.techdiary.co.uk/event/d992ee60-c49a-41d0-b8c9-7006634bd29c
DTSTART:20230420T183000
DTEND:20230420T203000

SUMMARY:April
DESCRIPTION:Two talks: &quot;Accelerating DevOps adoption with Red Hat OpenShift Container Platform&quot; (Euan Hume) and TBC (Price: FREE)
LOCATION:TusPark Eagle Lab\, 27 Grainger St\, Newcastle upon Tyne\, NE1 5JE
END:VEVENT
END:VCALENDAR
