BEGIN:VCALENDAR
X-WR-TIMEZONE;VALUE=TEXT:Europe/London
VERSION:2.0
CALSCALE:GREGORIAN
BEGIN:VEVENT
UID:d93bc402-df9a-4c34-9628-8ec090c58ea6@techdiary
DTSTAMP:20200422T115029                                     
URL:https://www.techdiary.co.uk/event/d93bc402-df9a-4c34-9628-8ec090c58ea6
DTSTART:20200519T173000
DTEND:20200519T190000

SUMMARY:Chapter Meeting
DESCRIPTION:Open to both (ISC)2 and non-(ISC)2 members. (Price: FREE)
LOCATION:Online (remote)
END:VEVENT
END:VCALENDAR
