BEGIN:VCALENDAR
X-WR-TIMEZONE;VALUE=TEXT:Europe/London
VERSION:2.0
CALSCALE:GREGORIAN
BEGIN:VEVENT
UID:d79b30ff-06bc-4926-9b1e-7262d4f9b66d@techdiary
DTSTAMP:20191017T124657                                     
URL:https://www.techdiary.co.uk/event/d79b30ff-06bc-4926-9b1e-7262d4f9b66d
DTSTART:20191206T100000
DTEND:20191206T150000

SUMMARY:Teacher CPD for A level
DESCRIPTION:Algorithms\, data structures and algorithmic complexity (Price: FREE)
LOCATION:Newcastle Helix\, The Core\, The Core Newcastle upon Tyne
END:VEVENT
END:VCALENDAR
