BEGIN:VCALENDAR
X-WR-TIMEZONE;VALUE=TEXT:Europe/London
VERSION:2.0
CALSCALE:GREGORIAN
BEGIN:VEVENT
UID:d7414f54-77c0-4d8d-b904-0d468b483e73@techdiary
DTSTAMP:20200708T150817                                     
URL:https://www.techdiary.co.uk/event/d7414f54-77c0-4d8d-b904-0d468b483e73
DTSTART:20200710T100000
DTEND:20200710T123000

SUMMARY:Succeeding in a Global Pandemic
DESCRIPTION:Discussions with Mark Catchlove\, Herman Miller\, Chris Nutman\, Phillip Bell and Trina Scott-Priestly. (Price: FREE)
LOCATION:Online (remote)
END:VEVENT
END:VCALENDAR
