BEGIN:VCALENDAR
X-WR-TIMEZONE;VALUE=TEXT:Europe/London
VERSION:2.0
CALSCALE:GREGORIAN
BEGIN:VEVENT
UID:d589d0f5-2bb7-4590-8298-7ca525e26dcd@techdiary
DTSTAMP:20201101T213526                                     
URL:https://www.techdiary.co.uk/event/d589d0f5-2bb7-4590-8298-7ca525e26dcd
DTSTART:20201119T121500
DTEND:20201119T133000

SUMMARY:Creating the Future: in Education
DESCRIPTION:Talks from Alison Shaw\, Karen Marshall\, and Laura Partridge - on Regional (Price: FREE)
LOCATION:Online (remote)
END:VEVENT
END:VCALENDAR
