BEGIN:VCALENDAR
X-WR-TIMEZONE;VALUE=TEXT:Europe/London
VERSION:2.0
CALSCALE:GREGORIAN
BEGIN:VEVENT
UID:d05bb340-bb1a-423c-86b2-ce9088c10ae6@techdiary
DTSTAMP:20181115T172855                                     
URL:https://www.techdiary.co.uk/event/d05bb340-bb1a-423c-86b2-ce9088c10ae6
DTSTART:20181213T183000
DTEND:20181213T183000

SUMMARY:DevOps\, Agile and SRE
DESCRIPTION:tombola&#039;s infrastructure on AWS\, and short talks on: &quot;A general rundown with common pitfalls of &#039;Going Full DevOps&#039;&quot;\, &quot;Where to begin with Agile\, DevOps and SRE&quot;\, &quot;Disaster Recovery&quot;. (Price: FREE)
LOCATION:tombola\, Wylam Wharf\, Low Street\, Sunderland
END:VEVENT
END:VCALENDAR
