BEGIN:VCALENDAR
X-WR-TIMEZONE;VALUE=TEXT:Europe/London
VERSION:2.0
CALSCALE:GREGORIAN
BEGIN:VEVENT
UID:d04e6b84-fd45-4afc-b94e-97a23c8bb2f1@techdiary
DTSTAMP:20160113T171849                                     
URL:https://www.techdiary.co.uk/event/d04e6b84-fd45-4afc-b94e-97a23c8bb2f1
DTSTART:20150225T173000
DTEND:20150225T193000

SUMMARY:DynamoNet: Orange Bus - Future Moments
DESCRIPTION:Orange Bus will look at how &#039;we&#039; can be the catalyst to set in motion a process of change involving people\, business and things that span multiple industries and ecosystems. (Price: FREE)
LOCATION:Orange Bus. Milburn House. Dean Street. Newcastle. NE1 1LF
END:VEVENT
END:VCALENDAR
