BEGIN:VCALENDAR
X-WR-TIMEZONE;VALUE=TEXT:Europe/London
VERSION:2.0
CALSCALE:GREGORIAN
BEGIN:VEVENT
UID:cfd72b9b-27ee-472c-ae8a-5be931696004@techdiary
DTSTAMP:20201007T142318                                     
URL:https://www.techdiary.co.uk/event/cfd72b9b-27ee-472c-ae8a-5be931696004
DTSTART:20201015T123000
DTEND:20201015T134500

SUMMARY:Creating the Future Climate - Innovating to Net Zero
DESCRIPTION:Talks from Peter Stark\, Phil James\, and the Energy Systems Catapult (Price: FREE)
LOCATION:Online (remote)
END:VEVENT
END:VCALENDAR
