BEGIN:VCALENDAR
X-WR-TIMEZONE;VALUE=TEXT:Europe/London
VERSION:2.0
CALSCALE:GREGORIAN
BEGIN:VEVENT
UID:cfa70419-cf8c-49a1-ad27-64d418a94bcd@techdiary
DTSTAMP:20191028T141736                                     
URL:https://www.techdiary.co.uk/event/cfa70419-cf8c-49a1-ad27-64d418a94bcd
DTSTART:20191115T093000
DTEND:20191115T123000

SUMMARY:Innovation in Entertainment. What does the Museum of the Future Look Like?
DESCRIPTION:Enjoy a tour of some of the museum spaces\, hear some case studies and join the discussion about what the museum of the future looks like. (Price: FREE)
LOCATION:Discovery Museum Newcastle\, Blandford Square\, Newcastle upon Tyne\, NE1 4JA
END:VEVENT
END:VCALENDAR
