BEGIN:VCALENDAR
X-WR-TIMEZONE;VALUE=TEXT:Europe/London
VERSION:2.0
CALSCALE:GREGORIAN
BEGIN:VEVENT
UID:cf5560d0-911b-460c-aaf5-5cf8a3d16df9@techdiary
DTSTAMP:20160531T113615                                     
URL:https://www.techdiary.co.uk/event/cf5560d0-911b-460c-aaf5-5cf8a3d16df9
DTSTART:20160412T123000
DTEND:20160412T123000

SUMMARY:Dynamo: Cyber Essentials Workshop
DESCRIPTION:How Cyber Security affects your organisation\, practical guidance towards implementation of the 5 controls of the Cyber Essentials Scheme\, and how to apply for Cyber Essentials certification. (Price: FREE)
LOCATION:The Core\, Science Central\, Bath Lane\, Newcastle upon Tyne\, NE4 5TF
END:VEVENT
END:VCALENDAR
