BEGIN:VCALENDAR
X-WR-TIMEZONE;VALUE=TEXT:Europe/London
VERSION:2.0
CALSCALE:GREGORIAN
BEGIN:VEVENT
UID:ce2ba12d-ec97-48c3-8b8e-baf9cec2b54f@techdiary
DTSTAMP:20190519T233838                                     
URL:https://www.techdiary.co.uk/event/ce2ba12d-ec97-48c3-8b8e-baf9cec2b54f
DTSTART:20190620T083000
DTEND:20190620T180000

SUMMARY:Roadmap for the Region’s Tech Sector
DESCRIPTION:Sessions will focus on what Dynamo members feel is important for the region’s tech sector in the next 5 years. (Price: £54 - 480)
LOCATION:The David Goldman Informatics Centre\, University of Sunderland\, Sunderland\, SR6 0DD
END:VEVENT
END:VCALENDAR
