BEGIN:VCALENDAR
X-WR-TIMEZONE;VALUE=TEXT:Europe/London
VERSION:2.0
CALSCALE:GREGORIAN
BEGIN:VEVENT
UID:cda2b253-3fb6-4638-b092-0dc8394a66e0@techdiary
DTSTAMP:20220915T193015                                     
URL:https://www.techdiary.co.uk/event/cda2b253-3fb6-4638-b092-0dc8394a66e0
DTSTART:20221006T120000
DTEND:20221006T130000

SUMMARY:Moving to a Modern Cloud Data Stack
DESCRIPTION:Mike Reeve (Data Product Owner\, Hiscox) will be discussing their journey from on-premise to cloud. (Price: FREE)
LOCATION:Online (remote)
END:VEVENT
END:VCALENDAR
