BEGIN:VCALENDAR
X-WR-TIMEZONE;VALUE=TEXT:Europe/London
VERSION:2.0
CALSCALE:GREGORIAN
BEGIN:VEVENT
UID:cc0a0277-6ad5-4821-a37a-a43e2a00d32c@techdiary
DTSTAMP:20200506T110933                                     
URL:https://www.techdiary.co.uk/event/cc0a0277-6ad5-4821-a37a-a43e2a00d32c
DTSTART:20200512T100000
DTEND:20200512T120000

SUMMARY:Tech Nation Talks
DESCRIPTION:Hear from the local tech ecosystem\, discuss the findings and understand what it means for your area. (Price: FREE)
LOCATION:Online (remote)
END:VEVENT
END:VCALENDAR
