BEGIN:VCALENDAR
X-WR-TIMEZONE;VALUE=TEXT:Europe/London
VERSION:2.0
CALSCALE:GREGORIAN
BEGIN:VEVENT
UID:cafce1c3-728b-44a8-aedc-ca4affd7151f@techdiary
DTSTAMP:20171016T103805                                     
URL:https://www.techdiary.co.uk/event/cafce1c3-728b-44a8-aedc-ca4affd7151f
DTSTART:20171019T183000
DTEND:20171019T183000

SUMMARY:Docker at Halloween
DESCRIPTION:Michael Moorhouse will talk about how not to use Docker as a VM &#039;shim&#039; - &quot;Weed &#039;em and Reap&#039;&quot; James Watson will talk about Barclays in the cloud. (Price: FREE)
LOCATION:Campus North\, Sunco House\, 5 Carliol Square\, Newcastle Upon Tyne\, NE1 6UF
END:VEVENT
END:VCALENDAR
