BEGIN:VCALENDAR
X-WR-TIMEZONE;VALUE=TEXT:Europe/London
VERSION:2.0
CALSCALE:GREGORIAN
BEGIN:VEVENT
UID:cad49d1f-e828-4903-bcf5-a6cb5f17dcfc@techdiary
DTSTAMP:20220208T144725                                     
URL:https://www.techdiary.co.uk/event/cad49d1f-e828-4903-bcf5-a6cb5f17dcfc
DTSTART:20220309T100000
DTEND:20220309T140000

SUMMARY:EDI Roundtable
DESCRIPTION:Join us to empower and embed Equality\, diversity\, and inclusion in the Northeast Tech Sector (Price: FREE)
LOCATION:Monstarlab\, 1st Floor\, 33 Grey St\, Newcastle upon Tyne\, NE1 6EE
END:VEVENT
END:VCALENDAR
