BEGIN:VCALENDAR
X-WR-TIMEZONE;VALUE=TEXT:Europe/London
VERSION:2.0
CALSCALE:GREGORIAN
BEGIN:VEVENT
UID:ca025ae0-2b19-4a2a-a1ea-6054cb71ee61@techdiary
DTSTAMP:20161122T121930                                     
URL:https://www.techdiary.co.uk/event/ca025ae0-2b19-4a2a-a1ea-6054cb71ee61
DTSTART:20161215T183000
DTEND:20161215T183000

SUMMARY:Christmas Party!
DESCRIPTION:DevOps games including &quot;Who wants to be a (DevOps) millionaire!&quot; (Price: FREE)
LOCATION:Classroom\, Campus North\, Sunco House\, 5 Carliol Square\, Newcastle Upon Tyne\, NE1 6UF
END:VEVENT
END:VCALENDAR
