BEGIN:VCALENDAR
X-WR-TIMEZONE;VALUE=TEXT:Europe/London
VERSION:2.0
CALSCALE:GREGORIAN
BEGIN:VEVENT
UID:c8daec26-9184-4703-9c93-9eaa41449504@techdiary
DTSTAMP:20230708T072853                                     
URL:https://www.techdiary.co.uk/event/c8daec26-9184-4703-9c93-9eaa41449504
DTSTART:20230913T170000
DTEND:20230913T183000

SUMMARY:CiviUsers UK - Empowering a small charity with limited IT resources to fulfil its mission
DESCRIPTION:Embracing Age\, a small Christian charity\, will share how they have successfully integrated CiviCRM into their daily operations. (Price: FREE)
LOCATION:Online (remote)
END:VEVENT
END:VCALENDAR
