BEGIN:VCALENDAR
X-WR-TIMEZONE;VALUE=TEXT:Europe/London
VERSION:2.0
CALSCALE:GREGORIAN
BEGIN:VEVENT
UID:c76f4ee7-ad8a-4951-9f61-60ed64913713@techdiary
DTSTAMP:20200810T120826                                     
URL:https://www.techdiary.co.uk/event/c76f4ee7-ad8a-4951-9f61-60ed64913713
DTSTART:20200924T180000
DTEND:20200924T203000

SUMMARY:Teesside: The role of cyber security in the future of Teesside
DESCRIPTION:Talks from Tony Snaith\, David Parkinson\, Ben Houchen\, Jane Reynolds\, Martin Wilson. (Price: FREE)
LOCATION:Online (remote)
END:VEVENT
END:VCALENDAR
