BEGIN:VCALENDAR
X-WR-TIMEZONE;VALUE=TEXT:Europe/London
VERSION:2.0
CALSCALE:GREGORIAN
BEGIN:VEVENT
UID:c6dcf02f-76f8-4d77-a839-a09e1807796e@techdiary
DTSTAMP:20190815T170226                                     
URL:https://www.techdiary.co.uk/event/c6dcf02f-76f8-4d77-a839-a09e1807796e
DTSTART:20191017T190000
DTEND:20191017T235900

SUMMARY:Dynamites 19
DESCRIPTION:North East IT and Technology Award ceremony. (Price: £112.80 - 1080)
LOCATION:Newcastle Civic Centre\, Barras Bridge\, Newcastle upon Tyne\, NE1 8QH
END:VEVENT
END:VCALENDAR
