BEGIN:VCALENDAR
X-WR-TIMEZONE;VALUE=TEXT:Europe/London
VERSION:2.0
CALSCALE:GREGORIAN
BEGIN:VEVENT
UID:c24ab8c2-9dc5-4dcd-8dbb-7a8e8913e9b9@techdiary
DTSTAMP:20220311T143117                                     
URL:https://www.techdiary.co.uk/event/c24ab8c2-9dc5-4dcd-8dbb-7a8e8913e9b9
DTSTART:20220323T120000
DTEND:20220323T120000

SUMMARY:Student and Business Meetup
DESCRIPTION:This online event is open to students with an interest in cyber security. (Price: FREE)
LOCATION:Online (remote)
END:VEVENT
END:VCALENDAR
