BEGIN:VCALENDAR
X-WR-TIMEZONE;VALUE=TEXT:Europe/London
VERSION:2.0
CALSCALE:GREGORIAN
BEGIN:VEVENT
UID:c1d7c970-edfd-478e-9c7c-251a4e6a050e@techdiary
DTSTAMP:20180508T112955                                     
URL:https://www.techdiary.co.uk/event/c1d7c970-edfd-478e-9c7c-251a4e6a050e
DTSTART:20180517T183000
DTEND:20180517T183000

SUMMARY:Openshift Container Platform / Amazon&#039;s Marketplace
DESCRIPTION:&quot;An overview of Red Hat&#039;s Kubernetes offering: Openshift Container Platform&quot; (Euan Hume) and &quot;A new feature coming to Amazon Marketplace (Andrew Taylor). (Price: FREE)
LOCATION:DXC Technology\, Silver Fox Way\, Newcastle
END:VEVENT
END:VCALENDAR
