BEGIN:VCALENDAR
X-WR-TIMEZONE;VALUE=TEXT:Europe/London
VERSION:2.0
CALSCALE:GREGORIAN
BEGIN:VEVENT
UID:c1ca6e9e-4e47-4ea5-bcaf-ebba2a65655c@techdiary
DTSTAMP:20220928T151127                                     
URL:https://www.techdiary.co.uk/event/c1ca6e9e-4e47-4ea5-bcaf-ebba2a65655c
DTSTART:20220930T173000
DTEND:20221002T160000

SUMMARY:Cost of Living Innovation Challenge
DESCRIPTION:For techies\, coders\, researchers\, students\, innovators\, professionals\, deep thinkers\, end users\, makers and doers. (Price: FREE)
LOCATION:The Software Centre\, Tavistock Place\, Sunderland\, SR1 1PB
END:VEVENT
END:VCALENDAR
