BEGIN:VCALENDAR
X-WR-TIMEZONE;VALUE=TEXT:Europe/London
VERSION:2.0
CALSCALE:GREGORIAN
BEGIN:VEVENT
UID:c1556684-9254-4b8c-bc08-2b94b8dfcdd5@techdiary
DTSTAMP:20200723T132903                                     
URL:https://www.techdiary.co.uk/event/c1556684-9254-4b8c-bc08-2b94b8dfcdd5
DTSTART:20200805T093000
DTEND:20200805T180000

SUMMARY:Digital Women
DESCRIPTION:Find out more information about a career in the digital sector and learn new skills (Price: FREE)
LOCATION:Online (remote)
END:VEVENT
END:VCALENDAR
