BEGIN:VCALENDAR
X-WR-TIMEZONE;VALUE=TEXT:Europe/London
VERSION:2.0
CALSCALE:GREGORIAN
BEGIN:VEVENT
UID:c04eeba6-8236-4ee7-aa61-2bf25f9a2793@techdiary
DTSTAMP:20210810T133546                                     
URL:https://www.techdiary.co.uk/event/c04eeba6-8236-4ee7-aa61-2bf25f9a2793
DTSTART:20210825T110000
DTEND:20210825T120000

SUMMARY:Innovation Challenge Series Launch – Britishvolt education hub
DESCRIPTION:Britishvolt\, on track to build the UK’s first full-scale Gigaplant\, is aiming to power future employment in the North East. (Price: FREE)
LOCATION:
END:VEVENT
END:VCALENDAR
