BEGIN:VCALENDAR
X-WR-TIMEZONE;VALUE=TEXT:Europe/London
VERSION:2.0
CALSCALE:GREGORIAN
BEGIN:VEVENT
UID:bffc00e4-d36b-4dfa-9a92-4a779465bd39@techdiary
DTSTAMP:20201130T143306                                     
URL:https://www.techdiary.co.uk/event/bffc00e4-d36b-4dfa-9a92-4a779465bd39
DTSTART:20201130T140000
DTEND:20201130T153000

SUMMARY:How training in Digital Skills can help your business innovate
DESCRIPTION: (Price: FREE)
LOCATION:Online (remote)
END:VEVENT
END:VCALENDAR
