BEGIN:VCALENDAR
X-WR-TIMEZONE;VALUE=TEXT:Europe/London
VERSION:2.0
CALSCALE:GREGORIAN
BEGIN:VEVENT
UID:bf9ee844-a912-4d15-aef0-075f65e94d37@techdiary
DTSTAMP:20160531T104328                                     
URL:https://www.techdiary.co.uk/event/bf9ee844-a912-4d15-aef0-075f65e94d37
DTSTART:20160406T173000
DTEND:20160406T193000

SUMMARY:DynamoNet: Future Workforce
DESCRIPTION:To better understand the needs of a ‘future workforce’ and increase the potential to fill the significant number of ICT vacancies across the North East. (Price: FREE / £24)
LOCATION:Teesside University\, The Forge\, Vicarage Road. Darlington. DL1 1JW
END:VEVENT
END:VCALENDAR
