BEGIN:VCALENDAR
X-WR-TIMEZONE;VALUE=TEXT:Europe/London
VERSION:2.0
CALSCALE:GREGORIAN
BEGIN:VEVENT
UID:bef562d6-4bff-444c-9010-2c9b201daabf@techdiary
DTSTAMP:20160105T121232                                     
URL:https://www.techdiary.co.uk/event/bef562d6-4bff-444c-9010-2c9b201daabf
DTSTART:20140410T193000
DTEND:20140410T220000

SUMMARY:Digital Design Newcastle
DESCRIPTION:If you&#039;re involved in the design of digital things - websites\, apps or services - come along an meet like minded people share ideas and learn. (Price: FREE)
LOCATION:The Town Wall\, Pink Lane\, Newcastle upon Tyne\, NE1 5HX
END:VEVENT
END:VCALENDAR
