BEGIN:VCALENDAR
X-WR-TIMEZONE;VALUE=TEXT:Europe/London
VERSION:2.0
CALSCALE:GREGORIAN
BEGIN:VEVENT
UID:beb68b9b-65ff-4bec-8cde-b668a176a11e@techdiary
DTSTAMP:20180619T120922                                     
URL:https://www.techdiary.co.uk/event/beb68b9b-65ff-4bec-8cde-b668a176a11e
DTSTART:20180621T183000
DTEND:20180621T183000

SUMMARY:Into the Mesosphere
DESCRIPTION:Why Apache Mesos and DC/OS are a solution for emerging patterns in data processing\, with Matt Jarvis. (Price: FREE)
LOCATION:Campus North\, Sunco House\, 5 Carliol Square\, Newcastle Upon Tyne\, NE1 6UF
END:VEVENT
END:VCALENDAR
