BEGIN:VCALENDAR
X-WR-TIMEZONE;VALUE=TEXT:Europe/London
VERSION:2.0
CALSCALE:GREGORIAN
BEGIN:VEVENT
UID:bd684c20-c5d6-44e4-87f5-1a4a5b705029@techdiary
DTSTAMP:20160629T182850                                     
URL:https://www.techdiary.co.uk/event/bd684c20-c5d6-44e4-87f5-1a4a5b705029
DTSTART:20160721T183000
DTEND:20160721T183000

SUMMARY:DevOps North East: &quot;Service Delivery with DevOps and Rundeck Automation&quot;
DESCRIPTION:A business focused talk on Service Delivery with DevOps and a technical talk on Rundeck for Automation. (Price: FREE)
LOCATION:Bede Gaming. Bevan House\, 1 Esh Plaza\, Sir Bobby Robson Way\, Newcastle Upon Tyne\, NE13 9BA
END:VEVENT
END:VCALENDAR
