BEGIN:VCALENDAR
X-WR-TIMEZONE;VALUE=TEXT:Europe/London
VERSION:2.0
CALSCALE:GREGORIAN
BEGIN:VEVENT
UID:bb9612ba-99ef-4a68-bc3e-79914bb1d3dc@techdiary
DTSTAMP:20160202T180250                                     
URL:https://www.techdiary.co.uk/event/bb9612ba-99ef-4a68-bc3e-79914bb1d3dc
DTSTART:20151123T180000
DTEND:20151123T180000

SUMMARY:DevOps North East: What is DevOps?
DESCRIPTION:DevOps means many things to many people\, so we will discuss what DevOps is and\, just as important\, what DevOps is not. (Price: FREE)
LOCATION:Campus North\, Sunco House\, 5 Carliol Square\, Newcastle Upon Tyne\, NE1 6UF
END:VEVENT
END:VCALENDAR
