BEGIN:VCALENDAR
X-WR-TIMEZONE;VALUE=TEXT:Europe/London
VERSION:2.0
CALSCALE:GREGORIAN
BEGIN:VEVENT
UID:bb769b64-bbe0-4f42-bd11-662ea9a739e7@techdiary
DTSTAMP:20160124T212904                                     
URL:https://www.techdiary.co.uk/event/bb769b64-bbe0-4f42-bd11-662ea9a739e7
DTSTART:20150916T180000
DTEND:20150916T203000

SUMMARY:DynamoNet: Game On
DESCRIPTION:Stéphane Catherine and Giselle Stewart speak about the North East&#039;s place in the international gaming industry. Includes a drink\, nibbles and access to the Game On 2.0 exhibition. (Price: £30)
LOCATION:Centre for Life. Times Square. Newcastle upon Tyne. NE1 4EP
END:VEVENT
END:VCALENDAR
