BEGIN:VCALENDAR
X-WR-TIMEZONE;VALUE=TEXT:Europe/London
VERSION:2.0
CALSCALE:GREGORIAN
BEGIN:VEVENT
UID:b90208e4-f9a3-4c56-a4e1-cc5c688846da@techdiary
DTSTAMP:20160606T104919                                     
URL:https://www.techdiary.co.uk/event/b90208e4-f9a3-4c56-a4e1-cc5c688846da
DTSTART:20160706T173000
DTEND:20160706T193000

SUMMARY:DynamoNet
DESCRIPTION:Find out about about Dynamo&#039;s activities\, the round up of the Dynamo 16 conference and details the upcoming Dynamites Awards. (Price: FREE / £24)
LOCATION:Hoults Yard\, 13 Walker Road\, Newcastle. NE6 2HL
END:VEVENT
END:VCALENDAR
