BEGIN:VCALENDAR
X-WR-TIMEZONE;VALUE=TEXT:Europe/London
VERSION:2.0
CALSCALE:GREGORIAN
BEGIN:VEVENT
UID:b645a699-4059-421b-bbac-28dffaad2ae8@techdiary
DTSTAMP:20200629T110932                                     
URL:https://www.techdiary.co.uk/event/b645a699-4059-421b-bbac-28dffaad2ae8
DTSTART:20200716T123000
DTEND:20200716T140000

SUMMARY:Lockdown and Digital Health: leadership insights and innovation from the front-line
DESCRIPTION:Might the pandemic be a tipping point for adopting digital innovation\, digital lifelines for the shielded and vulnerable\, and how might we transform the future of social care? (Price: FREE)
LOCATION:Online (remote)
END:VEVENT
END:VCALENDAR
