BEGIN:VCALENDAR
X-WR-TIMEZONE;VALUE=TEXT:Europe/London
VERSION:2.0
CALSCALE:GREGORIAN
BEGIN:VEVENT
UID:b4e5f7f6-df60-458f-a720-5689ca955ed8@techdiary
DTSTAMP:20180723T131959                                     
URL:https://www.techdiary.co.uk/event/b4e5f7f6-df60-458f-a720-5689ca955ed8
DTSTART:20180719T183000
DTEND:20180719T183000

SUMMARY:Making sense of digital transformation with VeriSM
DESCRIPTION:Claire Agutter presents. (Price: FREE)
LOCATION:Campus North\, Sunco House\, 5 Carliol Square\, Newcastle Upon Tyne\, NE1 6UF
END:VEVENT
END:VCALENDAR
