BEGIN:VCALENDAR
X-WR-TIMEZONE;VALUE=TEXT:Europe/London
VERSION:2.0
CALSCALE:GREGORIAN
BEGIN:VEVENT
UID:b48d8009-25a6-4947-96d3-98db16e959fa@techdiary
DTSTAMP:20210518T124927                                     
URL:https://www.techdiary.co.uk/event/b48d8009-25a6-4947-96d3-98db16e959fa
DTSTART:20210607T000000
DTEND:20210607T000000

SUMMARY:Creating your Hybrid Working Strategy
DESCRIPTION:Working with DuoMe\, this interactive workshop is your starting point to developing a clear and beneficial hybrid working policy that drives your organisation forward. (Price: FREE)
LOCATION:Online (remote)
END:VEVENT
END:VCALENDAR
